BEGIN:VCALENDAR
VERSION:2.0
PRODID:icalendar-ruby
CALSCALE:GREGORIAN
METHOD:PUBLISH
BEGIN:VTIMEZONE
TZID:Australia/Melbourne
BEGIN:DAYLIGHT
DTSTART:20261004T030000
TZOFFSETFROM:+1000
TZOFFSETTO:+1100
RRULE:FREQ=YEARLY;BYDAY=1SU;BYMONTH=10
TZNAME:AEDT
END:DAYLIGHT
BEGIN:STANDARD
DTSTART:20260405T020000
TZOFFSETFROM:+1100
TZOFFSETTO:+1000
RRULE:FREQ=YEARLY;BYDAY=1SU;BYMONTH=4
TZNAME:AEST
END:STANDARD
END:VTIMEZONE
BEGIN:VEVENT
DTSTAMP:20260424T100425Z
UID:inspection_3012762
DTSTART;TZID=Australia/Melbourne:20260429T120000
DTEND;TZID=Australia/Melbourne:20260429T122000
CLASS:PUBLIC
CREATED:20260424T153751
DESCRIPTION: 
LAST-MODIFIED:20260424T153751
LOCATION:203 / 35-43 High Street\, GLEN IRIS VIC 3146\, Australia
SUMMARY:203 / 35-43 High Street\,  Inspection
URL;VALUE=URI:http://www.tamagold.com/
END:VEVENT
END:VCALENDAR
